BEGIN:VCALENDAR
VERSION:2.0
PRODID:-//ChamberMaster//Event Calendar 2.0//EN
METHOD:PUBLISH
X-PUBLISHED-TTL:P1H
REFRESH-INTERVAL:P1H
CALSCALE:GREGORIAN
BEGIN:VTIMEZONE
TZID:America/New_York
BEGIN:DAYLIGHT
RRULE:FREQ=YEARLY;BYMONTH=3;BYDAY=2SU
DTSTART:20070101T000000
TZOFFSETFROM:-0500
TZOFFSETTO:-0400
TZNAME:Eastern Daylight Time
END:DAYLIGHT
BEGIN:STANDARD
RRULE:FREQ=YEARLY;BYMONTH=11;BYDAY=1SU
DTSTART:20070101T000000
TZOFFSETFROM:-0400
TZOFFSETTO:-0500
TZNAME:Eastern Standard Time
END:STANDARD
END:VTIMEZONE
BEGIN:VEVENT
DTSTART;TZID=America/New_York:20260422T120000
DTEND;TZID=America/New_York:20260422T130000
X-MICROSOFT-CDO-ALLDAYEVENT:FALSE
SUMMARY:Scholarship Providers Roundtable: Navigating Executive Order Changes Together
DESCRIPTION:The Hendricks County Community Foundation\, in partnership with the Hendricks College Network\, invites you and other local scholarship providers to a virtual meeting to discuss recent executive orders and their effects on scholarship provision. Our goal is to help scholarship providers better understand the evolving requirements and ensure clarity around what qualifies as an eligible scholarship. Please note that this session is for informational purposes only and should not be considered legal advice. Providers should consult their own legal advisors for recommendations on any changes to their programs. As a valued scholarship provider\, we invite you to join us for this virtual meeting on Wednesday\, April 22\, 2026\, from 12:00 PM to 1:00 PM. During this lunch-hour session\, we will review background information on the executive orders\, discuss the resulting changes to scholarship eligibility\, and provide time for questions and answers. \nRegister here: Scholarship Roundtable \nTo allow for open dialogue\, the meeting will not be recorded\, nor will AI Meeting Assistants\, AI Notetakers\, or Meeting Bots be allowed into the meeting. \nThose who cannot attend are invited to schedule a one-on-one meeting by emailing Eric Hessel\, HCCF VP President of Programs\, at eric@hendrickscountycf.org or Tracy Berens-Funk\, HCN Director of Adult Workforce Initiatives\, at tracy@hendrickscollegenetwork.org. If you have any questions\, please do not hesitate to contact Eric at HCCF.  We hope you will join us for this important conversation.
X-ALT-DESC;FMTTYPE=text/html:<!DOCTYPE html><html><head><title></title></head><body aria-disabled="false"><p>The Hendricks County Community Foundation\, in partnership with the Hendricks College Network\, invites you and other local scholarship providers to <strong fr-original-style="" style="font-weight: 700\;">a virtual meeting to discuss recent executive orders and their effects on scholarship provision.&nbsp\;</strong></p><p>Our <strong fr-original-style="" style="font-weight: 700\;">goal is to help scholarship providers better understand the evolving requirements&nbsp\;</strong>and ensure clarity around what qualifies as an eligible scholarship. Please note that this session is for informational purposes only and should not be considered legal advice. Providers should consult their own legal advisors for recommendations on any changes to their programs.&nbsp\;</p><p>As a valued scholarship provider\, we invite you to <strong fr-original-style="" style="font-weight: 700\;">join us for this virtual meeting on Wednesday\, April 22\, 2026\, from 12:00 PM to 1:00 PM.</strong> During this lunch-hour session\, we will review background information on the executive orders\, discuss the resulting changes to scholarship eligibility\, and provide time for questions and answers.&nbsp\;</p><p><br></p><p><strong fr-original-style="" style="font-weight: 700\;">Register here:&nbsp\;</strong><a fr-original-style="" href="https://us02web.zoom.us/meeting/register/C4gOCzQ2TZS7I4eq9pOXkQ#/registration" rel="noopener noreferrer" style="user-select: auto\;" target="_blank">Scholarship Roundtable&nbsp\;</a></p><p><br></p><p>To allow for open dialogue\, the meeting will not be recorded\, nor will AI Meeting Assistants\, AI Notetakers\, or Meeting Bots be allowed into the meeting.&nbsp\;</p><p><br></p><p>Those who cannot attend are invited to schedule a one-on-one meeting by emailing Eric Hessel\, HCCF VP President of Programs\, at eric@hendrickscountycf.org or Tracy Berens-Funk\, HCN Director of Adult Workforce Initiatives\, at tracy@hendrickscollegenetwork.org.&nbsp\;</p><p>If you have any questions\, please do not hesitate to contact Eric at HCCF.&nbsp\; We hope you will join us for this important conversation.</p></body></html>
LOCATION:Plainfield IN 46168
UID:e.3112.1432675
SEQUENCE:3
DTSTAMP:20260420T023915Z
URL:https://business.plainfield-in.com/chamber-calendar/Details/scholarship-providers-roundtable-navigating-executive-order-changes-together-1695641?sourceTypeId=Hub
END:VEVENT
END:VCALENDAR
